BEGIN:VCALENDAR
VERSION:2.0
PRODID:-//Markthalle Hamburg - ECPv5.16.4//NONSGML v1.0//EN
CALSCALE:GREGORIAN
METHOD:PUBLISH
X-WR-CALNAME:Markthalle Hamburg
X-ORIGINAL-URL:https://markthalle-hamburg.de
X-WR-CALDESC:Veranstaltungen für Markthalle Hamburg
BEGIN:VTIMEZONE
TZID:Europe/Berlin
BEGIN:DAYLIGHT
TZOFFSETFROM:+0100
TZOFFSETTO:+0200
TZNAME:CEST
DTSTART:20240331T010000
END:DAYLIGHT
BEGIN:STANDARD
TZOFFSETFROM:+0200
TZOFFSETTO:+0100
TZNAME:CET
DTSTART:20241027T010000
END:STANDARD
END:VTIMEZONE
BEGIN:VEVENT
DTSTART;TZID=Europe/Berlin:20240306T190000
DTEND;TZID=Europe/Berlin:20240306T200000
DTSTAMP:20260419T144113
CREATED:20231113T132636Z
LAST-MODIFIED:20231113T133004Z
UID:14659-1709751600-1709755200@markthalle-hamburg.de
SUMMARY:Doktor Whatson
DESCRIPTION:bestuhlte Veranstaltung\n\n\nAlles\, was ihr über morgen wissen müsst. \nDoktor Whatson – Content Creator und Gewinner des Grimme Online Awards 2023 – erklärt\, wie wir uns zukünftig fortbewegen\, ernähren und leben werden. Metropolen auf dem Mars? Insekten im Essen? Fliegende Autos im Straßenverkehr? Welche spannenden Technologien werden unser Leben verändern? Doktor Whatson nimmt euch mit in die Zukunft. \nAls Kind liebte Cedric Engels die „Sendung mit der Maus“ und „Wissen macht Ah!“. Mittlerweile ist er selbst auf dem Bildschirm zu sehen und erklärt als Doktor Whatson seinen mehr als 300.000 Abonnent*innen\, wie Naturgesetze und technische Innovationen funktionieren. Er ist einer der einflussreichsten Science-YouTuber Deutschlands und vereint gut fundierten Journalismus\, Wissenschaft und Entertainment. \nTickets an allen VVK-Stellen und online unter: doktorwhatson.shop
URL:https://markthalle-hamburg.de/konzerte/doktor-whatson/
LOCATION:Großer Saal
CATEGORIES:Highlights
ATTACH;FMTTYPE=image/png:https://markthalle-hamburg.de/wp-content/uploads/2023/11/csm_DoktorWhatson_tour2023_Xheader_de90608acb-e1699881984317.png
END:VEVENT
END:VCALENDAR