BEGIN:VCALENDAR
VERSION:2.0
PRODID:-//Markthalle Hamburg - ECPv5.16.4//NONSGML v1.0//EN
CALSCALE:GREGORIAN
METHOD:PUBLISH
X-WR-CALNAME:Markthalle Hamburg
X-ORIGINAL-URL:https://markthalle-hamburg.de
X-WR-CALDESC:Veranstaltungen für Markthalle Hamburg
BEGIN:VTIMEZONE
TZID:Europe/Berlin
BEGIN:DAYLIGHT
TZOFFSETFROM:+0100
TZOFFSETTO:+0200
TZNAME:CEST
DTSTART:20230326T010000
END:DAYLIGHT
BEGIN:STANDARD
TZOFFSETFROM:+0200
TZOFFSETTO:+0100
TZNAME:CET
DTSTART:20231029T010000
END:STANDARD
END:VTIMEZONE
BEGIN:VEVENT
DTSTART;TZID=Europe/Berlin:20230421T190000
DTEND;TZID=Europe/Berlin:20230421T200000
DTSTAMP:20260421T031120
CREATED:20221209T093314Z
LAST-MODIFIED:20221209T093314Z
UID:13408-1682103600-1682107200@markthalle-hamburg.de
SUMMARY:Niels Frevert
DESCRIPTION:Niels Frevert\nPseudopoesie\nAlbum / VÖ 24.03.2023\nNiels Freverts neues Album heißt Pseudopoesie\, und davon abgesehen\,wie halluzinogen dieses Wort aussieht\, ist es natürlich bemerkenswert\,dass gerade er\, Frevert\, Held aller Lieddichter/innen deutscher Sprache\,sein siebtes und schon wieder überraschendes Album Pseodopoesie nennt. Ist das Koketterie oder hat der `ne Krise? Und warum haut er nach seinem Prä-Covid-Erfolgsalbum Putzlicht schon wieder so einen Hammerraus? Fragen\, auf die wir wahrscheinlich mal wieder keine befriedigenden\nAntworten bekommen werden\, denn N. Frevert ist nicht zu fassen.„Ich sing´ in einem Käfig\, in dem der Algorithmus nicht greift“‚Fremd in der Welt’ \nEs beginnt schon mit der Einordnung. Freverts Kollegen kriegt man alleeasy zu greifen. Da ist Jochen\, der Intellektuelle. Thees\, der Kumpeltyp.Sven\, der Romantiker mit den Romanen\, und Gisbert\, der aus der WGKüche der Herzen. Bei Niels aber wird’s vage. Er war schon immer der\,der nirgendwo so richtig dazugehörte. Ein Einzelgänger\, geheimnisvoll und etwas unnahbar. Ein Flaneur\, der alle paar Jahre mit zwei Händenvoll Liedern aus der Versenkung erscheint\, für Verzückung sorgt und wieder verschwindet in der Anonymität jener Großstadt\, in der er seine Geschichten findet. Ein Meister der stolzen Melancholie\, bei dem Worte wie Einwegfeuerzeugstichflamme zur Hook werden und jedes Lied der Welt einen Blick abgewinnt\, einen Moment oder eine Formulierung\, die man nicht mehr vergisst. Zu fein für’s Formatradio\, zu verwirrend für den\nAlgorithmus.Der Bruch kam mit dem 2019 erschienenen Album Putzlicht. Mit dem erfand sich Frevert nach fünf Jahren Pause quasi neu\, streifte das Korsett des Liedermachers ab. Plötzlich war alles größer und druckvoller\, als hätten The War On Drugs seine Schreibklause gestürmt. Pseudopoesie knüpft da an und geht noch weiter – auch dank des neuen Frevert-Produzenten Tim Tautorat (Faber\, Provinz\, Tristan Brusch).\n„Das Schwarze an deinem Handgelenk\, ist das Kajal?“\n‚
URL:https://markthalle-hamburg.de/konzerte/niels-frevert/
LOCATION:Großer Saal
CATEGORIES:Highlights
ATTACH;FMTTYPE=image/jpeg:https://markthalle-hamburg.de/wp-content/uploads/2022/12/NF_Tour-23_FB-Header_Event.jpg
END:VEVENT
END:VCALENDAR