BEGIN:VCALENDAR
VERSION:2.0
PRODID:-//Markthalle Hamburg - ECPv5.16.4//NONSGML v1.0//EN
CALSCALE:GREGORIAN
METHOD:PUBLISH
X-WR-CALNAME:Markthalle Hamburg
X-ORIGINAL-URL:https://markthalle-hamburg.de
X-WR-CALDESC:Veranstaltungen für Markthalle Hamburg
BEGIN:VTIMEZONE
TZID:Europe/Berlin
BEGIN:DAYLIGHT
TZOFFSETFROM:+0100
TZOFFSETTO:+0200
TZNAME:CEST
DTSTART:20160327T010000
END:DAYLIGHT
BEGIN:STANDARD
TZOFFSETFROM:+0200
TZOFFSETTO:+0100
TZNAME:CET
DTSTART:20161030T010000
END:STANDARD
END:VTIMEZONE
BEGIN:VEVENT
DTSTART;TZID=Europe/Berlin:20161117T190000
DTEND;TZID=Europe/Berlin:20161117T200000
DTSTAMP:20260424T181533
CREATED:20160104T121014Z
LAST-MODIFIED:20161114T142150Z
UID:2357-1479409200-1479412800@markthalle-hamburg.de
SUMMARY:Scala & Kolacny Brothers
DESCRIPTION:Liebe Gäste\,\nbei dieser Veranstaltung besteht die Pflicht\, die Garderobe abzugeben.\nDer Preis pro abgegebenem Kleidungsstück beträgt 1\,50 €. \n____ \nScala ist ein Indie-Rock-Chor mit den Kolacny-Brüdern Steven und Stijn einerseits\, und Scala\, ihrem Frauenchor andererseits. Steven begleitet den Chor am Klavier\, Stijn ist der Dirigent. Die Brüder treten normalerweise mit 20 bis 30 Sängerinnen zwischen 16 und 26 Jahren auf. Zur Zeit zählt der Chor über 200 Mitglieder\, wodurch die immer wachsende Zahl der Aufführungen gedeckt werden kann. Scala & Kolacny Brothers wählt Indie-Rock-Klassiker und Indie-Songs aus\, bearbeitet die zu elegischen Hymnen mit atemberaubenden Effekten. Das Klavier als einzige Begleitung der Stimmen. Ab und zu unterstützen auch Schlagzeug\, Klanglandschaft und Synthesizer\, oder sogar eine eigene Scala-Rockband eine Aufführung.
URL:https://markthalle-hamburg.de/konzerte/scala-kolacny-brothers/
LOCATION:Großer Saal
ATTACH;FMTTYPE=image/jpeg:https://markthalle-hamburg.de/wp-content/uploads/2016/01/scala1colivier-anbergenkl.jpg
END:VEVENT
END:VCALENDAR