BEGIN:VCALENDAR
VERSION:2.0
PRODID:-//Markthalle Hamburg - ECPv5.16.4//NONSGML v1.0//EN
CALSCALE:GREGORIAN
METHOD:PUBLISH
X-WR-CALNAME:Markthalle Hamburg
X-ORIGINAL-URL:https://markthalle-hamburg.de
X-WR-CALDESC:Veranstaltungen für Markthalle Hamburg
BEGIN:VTIMEZONE
TZID:Europe/Berlin
BEGIN:DAYLIGHT
TZOFFSETFROM:+0100
TZOFFSETTO:+0200
TZNAME:CEST
DTSTART:20240331T010000
END:DAYLIGHT
BEGIN:STANDARD
TZOFFSETFROM:+0200
TZOFFSETTO:+0100
TZNAME:CET
DTSTART:20241027T010000
END:STANDARD
END:VTIMEZONE
BEGIN:VEVENT
DTSTART;TZID=Europe/Berlin:20241031T190000
DTEND;TZID=Europe/Berlin:20241031T200000
DTSTAMP:20260423T100250
CREATED:20240318T131246Z
LAST-MODIFIED:20240829T122210Z
UID:15198-1730401200-1730404800@markthalle-hamburg.de
SUMMARY:The Brew (UK) - 20 years anniversary Tour 2024
DESCRIPTION:special guest: Rovar \n  \nTHE BREW (UK)\n20 lange Jahre ist es nun her\, seitdem sich THE BREW in der Hafenstadt Grimsby im Nordosten Englands gegründet haben. Das damals gemeinsam erklärte Ziel von „Gitarrenderwisch“ Jason Barwick\, „Groovemonster“ Kurtis Smith and den Drums und dessen Vater Tim Smith am Bass\, war es\, energiegeladenen Gitarrenrock im Geiste von Acts wie The Who oder Led Zeppelin mit einem modernen Twist auf die Bühnen Europas und der Welt zu bringen und Fans mit ihrer einnehmenden und kraftvollen Performance zu begeistern. Seither hat das Rock-Trio unzählige Festivals\, Headliner- oder Special Guest Tourneen und Shows mit Acts wie ZZ Top oder Lynyrd Skynyrd gespielt. THE BREW sind sich dabei über die Jahre stets treu geblieben\, hatten weder Besetzungswechsel noch andere „Frischzellenkuren“ nötig und haben ihrem geschätzten Publikum immer und überall eine\n110 %ige Show geliefert. \nMehr als nur ein guter Grund also\, dieses Jahr das 20-jährige Band-Jubiläum gemeinsam mit THE BREW gebührend zu feiern! \nDie Fans in Deutschland dürfen sich auf 8 Jubiläums-Shows freuen und natürlich auch auf das ein oder andere Tour-Special wie z. B. eine spezielle Jubiläums-Tour-Playlist oder auch ein paar ausgesuchte Cover-Songs von Bands\, die THE BREW in ihrer musikalischen Karriere maßgeblich beeinflusst haben. \nAls Support haben die drei Brit-Rocker das Rock Trio ROVAR aus Deutschland eingeladen\, das das Publikum u. a. schon als Support auf der letzten Tour von WOLFMOTHER überzeugen konnte.
URL:https://markthalle-hamburg.de/konzerte/the-brew-uk-20-years-anniversary-tour-2024/
LOCATION:Großer Saal
CATEGORIES:Highlights
ATTACH;FMTTYPE=image/jpeg:https://markthalle-hamburg.de/wp-content/uploads/2024/03/THE-BREW-2024-photocredit-by-Zac-Rashid-scaled-e1710767515577.jpg
END:VEVENT
END:VCALENDAR